BEGIN:VCALENDAR
VERSION:2.0
PRODID:-//eventon.com NONSGML v1.0//EN
CALSCALE:GREGORIAN
METHOD:PUBLISH
BEGIN:VEVENT
UID:69e643e69469c
DTSTAMP:20260420T151902Z
DTSTART:20260613T090000Z
DTEND:20260613T170000Z
LOCATION:
SUMMARY:CONVEGNO NAZIONALE AICoGe
DESCRIPTION:IL COORDINATORE GENITORIALE: DA PIONIERE A ESPERTO NELLA RIFORM
 A CARTABIA\,  Condivisione di pratiche ed esperienze Roma\,  13 Giugno 2026
 9:00-17:30Casa dell’AviatoreViale dell’Università\, 20 Il convegno è 
 aperto in forma gratuita a tutti i Soci in regola con la quota d’iscrizio
 ne\nhttps://www.coordinazionegenitoriale.eu/events/convegno-nazionale-aicog
 e/
URL:https://www.coordinazionegenitoriale.eu/events/convegno-nazionale-aicoge/
END:VEVENT
END:VCALENDAR